BEGIN:VCALENDAR
VERSION:2.0
PRODID:-//Village of Burton - ECPv6.15.20//NONSGML v1.0//EN
CALSCALE:GREGORIAN
METHOD:PUBLISH
X-WR-CALNAME:Village of Burton
X-ORIGINAL-URL:https://villageofburton.org
X-WR-CALDESC:Events for Village of Burton
REFRESH-INTERVAL;VALUE=DURATION:PT1H
X-Robots-Tag:noindex
X-PUBLISHED-TTL:PT1H
BEGIN:VTIMEZONE
TZID:America/New_York
BEGIN:DAYLIGHT
TZOFFSETFROM:-0500
TZOFFSETTO:-0400
TZNAME:EDT
DTSTART:20220313T070000
END:DAYLIGHT
BEGIN:STANDARD
TZOFFSETFROM:-0400
TZOFFSETTO:-0500
TZNAME:EST
DTSTART:20221106T060000
END:STANDARD
BEGIN:DAYLIGHT
TZOFFSETFROM:-0500
TZOFFSETTO:-0400
TZNAME:EDT
DTSTART:20230312T070000
END:DAYLIGHT
BEGIN:STANDARD
TZOFFSETFROM:-0400
TZOFFSETTO:-0500
TZNAME:EST
DTSTART:20231105T060000
END:STANDARD
BEGIN:DAYLIGHT
TZOFFSETFROM:-0500
TZOFFSETTO:-0400
TZNAME:EDT
DTSTART:20240310T070000
END:DAYLIGHT
BEGIN:STANDARD
TZOFFSETFROM:-0400
TZOFFSETTO:-0500
TZNAME:EST
DTSTART:20241103T060000
END:STANDARD
END:VTIMEZONE
BEGIN:VEVENT
DTSTART;TZID=America/New_York:20231007T100000
DTEND;TZID=America/New_York:20231007T120000
DTSTAMP:20260422T100831
CREATED:20230927T163938Z
LAST-MODIFIED:20230927T163938Z
UID:19481-1696672800-1696680000@villageofburton.org
SUMMARY:Arbor Day
DESCRIPTION:TREE TALK – AUTUMN 2023 \nFREE TREES OCTOBER 7 ! \nIn celebration of Arbor Day\, The Burton Village Tree Commission will once again be giving away 200 seedlings! Join us at the southeast corner of the park on Saturday October 7\nfrom 10 – noon to claim your tree. This year’s pick is American native Bald Cypress\, Taxodium disticum\, a deciduous conifer. It’s a cone-bearing tree that sheds its feathery leaves\nin the fall. Before they drop\, the green leaves turn a handsome coppery-bronze.  Hardy to zone 4\, Bald Cypress is often associated with the swamps of the south where it\nis well known for the “knees” that protrude from its root system. This feature not well understood and is usually absent in dryer planting sites\, but Taxodium is a great choice for\nwetter sites where other trees may struggle or fail. Give this tree room as it can grow to 70 feet tall by 25 feet wide to become an uncommon stately specimen tree.
URL:https://villageofburton.org/event/arbor-day/
CATEGORIES:Community Events
END:VEVENT
END:VCALENDAR