BEGIN:VCALENDAR
VERSION:2.0
PRODID:-//Village of Burton - ECPv6.15.20//NONSGML v1.0//EN
CALSCALE:GREGORIAN
METHOD:PUBLISH
X-ORIGINAL-URL:https://villageofburton.org
X-WR-CALDESC:Events for Village of Burton
REFRESH-INTERVAL;VALUE=DURATION:PT1H
X-Robots-Tag:noindex
X-PUBLISHED-TTL:PT1H
BEGIN:VTIMEZONE
TZID:America/New_York
BEGIN:DAYLIGHT
TZOFFSETFROM:-0500
TZOFFSETTO:-0400
TZNAME:EDT
DTSTART:20230312T070000
END:DAYLIGHT
BEGIN:STANDARD
TZOFFSETFROM:-0400
TZOFFSETTO:-0500
TZNAME:EST
DTSTART:20231105T060000
END:STANDARD
BEGIN:DAYLIGHT
TZOFFSETFROM:-0500
TZOFFSETTO:-0400
TZNAME:EDT
DTSTART:20240310T070000
END:DAYLIGHT
BEGIN:STANDARD
TZOFFSETFROM:-0400
TZOFFSETTO:-0500
TZNAME:EST
DTSTART:20241103T060000
END:STANDARD
BEGIN:DAYLIGHT
TZOFFSETFROM:-0500
TZOFFSETTO:-0400
TZNAME:EDT
DTSTART:20250309T070000
END:DAYLIGHT
BEGIN:STANDARD
TZOFFSETFROM:-0400
TZOFFSETTO:-0500
TZNAME:EST
DTSTART:20251102T060000
END:STANDARD
BEGIN:DAYLIGHT
TZOFFSETFROM:-0500
TZOFFSETTO:-0400
TZNAME:EDT
DTSTART:20260308T070000
END:DAYLIGHT
BEGIN:STANDARD
TZOFFSETFROM:-0400
TZOFFSETTO:-0500
TZNAME:EST
DTSTART:20261101T060000
END:STANDARD
BEGIN:DAYLIGHT
TZOFFSETFROM:-0500
TZOFFSETTO:-0400
TZNAME:EDT
DTSTART:20270314T070000
END:DAYLIGHT
BEGIN:STANDARD
TZOFFSETFROM:-0400
TZOFFSETTO:-0500
TZNAME:EST
DTSTART:20271107T060000
END:STANDARD
END:VTIMEZONE
BEGIN:VEVENT
DTSTART;TZID=America/New_York:20260423T173000
DTEND;TZID=America/New_York:20260423T183000
DTSTAMP:20260425T170650
CREATED:20260115T145228Z
LAST-MODIFIED:20260115T145228Z
UID:21345-1776965400-1776969000@villageofburton.org
SUMMARY:JEDD MEETING AT ***TOWNSHIP OFFICE BLDG***
DESCRIPTION:
URL:https://villageofburton.org/event/jedd-meeting-at-township-office-bldg/
CATEGORIES:JEDD meeting,Resident Info
END:VEVENT
BEGIN:VEVENT
DTSTART;TZID=America/New_York:20260422T180000
DTEND;TZID=America/New_York:20260422T190000
DTSTAMP:20260425T170650
CREATED:20260325T150153Z
LAST-MODIFIED:20260325T150153Z
UID:21559-1776880800-1776884400@villageofburton.org
SUMMARY:PLANNING COMMISSION 6:00PM
DESCRIPTION:
URL:https://villageofburton.org/event/planning-commission-600pm/
CATEGORIES:Home page,Resident Info
END:VEVENT
BEGIN:VEVENT
DTSTART;TZID=America/New_York:20260421T110000
DTEND;TZID=America/New_York:20260421T120000
DTSTAMP:20260425T170650
CREATED:20260319T193826Z
LAST-MODIFIED:20260319T193906Z
UID:21522-1776769200-1776772800@villageofburton.org
SUMMARY:WELTON CEMETERY BOARD MEETING 11:00AM
DESCRIPTION:
URL:https://villageofburton.org/event/welton-cemetery-board-meeting/
CATEGORIES:Resident Info,VOB Meetings
END:VEVENT
BEGIN:VEVENT
DTSTART;TZID=America/New_York:20260331T060000
DTEND;TZID=America/New_York:20260331T183000
DTSTAMP:20260425T170650
CREATED:20260324T144542Z
LAST-MODIFIED:20260324T144619Z
UID:21543-1774936800-1774981800@villageofburton.org
SUMMARY:CANCELLED BZA MEETING
DESCRIPTION:
URL:https://villageofburton.org/event/cancelled-bza-meeting/
CATEGORIES:BZA Meeting,Resident Info,VOB Meetings
END:VEVENT
BEGIN:VEVENT
DTSTART;TZID=America/New_York:20260324T143900
DTEND;TZID=America/New_York:20260324T143900
DTSTAMP:20260425T170650
CREATED:20260317T175414Z
LAST-MODIFIED:20260324T153128Z
UID:21508-1774363140-1774363140@villageofburton.org
SUMMARY:CANCELLED BZA MEETING
DESCRIPTION:
URL:https://villageofburton.org/event/bza-meeting-3-31-2026/
CATEGORIES:BZA Meeting,Community Events,Home page,Resident Info
END:VEVENT
BEGIN:VEVENT
DTSTART;VALUE=DATE:20251231
DTEND;VALUE=DATE:20260101
DTSTAMP:20260425T170650
CREATED:20251208T165926Z
LAST-MODIFIED:20251217T210347Z
UID:21153-1767139200-1767225599@villageofburton.org
SUMMARY:NEW YEARS EVE - OFFICES CLOSING AT NOON **
DESCRIPTION:
URL:https://villageofburton.org/event/new-years-eve-offices-open/
CATEGORIES:Community Events,Home page,Resident Info
END:VEVENT
BEGIN:VEVENT
DTSTART;VALUE=DATE:20251224
DTEND;VALUE=DATE:20251225
DTSTAMP:20260425T170650
CREATED:20251208T165809Z
LAST-MODIFIED:20251217T210448Z
UID:21149-1766534400-1766620799@villageofburton.org
SUMMARY:CHRISTMAS EVE - OFFICE CLOSING AT NOON **
DESCRIPTION:  \n.
URL:https://villageofburton.org/event/christmas-eve-village-offices-open/
CATEGORIES:Holiday Celebrations,Home page,Resident Info
END:VEVENT
BEGIN:VEVENT
DTSTART;TZID=America/New_York:20251111T080000
DTEND;TZID=America/New_York:20251111T170000
DTSTAMP:20260425T170650
CREATED:20251106T162253Z
LAST-MODIFIED:20251106T162253Z
UID:20988-1762848000-1762880400@villageofburton.org
SUMMARY:VETERANS DAY - VILLAGE OFFICE CLOSED
DESCRIPTION:
URL:https://villageofburton.org/event/veterans-day-village-office-closed/
CATEGORIES:Holiday Celebrations,Home page,Resident Info
END:VEVENT
BEGIN:VEVENT
DTSTART;TZID=America/New_York:20251031T180000
DTEND;TZID=America/New_York:20251031T193000
DTSTAMP:20260425T170650
CREATED:20250911T200603Z
LAST-MODIFIED:20251014T132156Z
UID:20918-1761933600-1761939000@villageofburton.org
SUMMARY:TRICK OR TREAT 6:00PM TO 7:30PM
DESCRIPTION:
URL:https://villageofburton.org/event/trick-or-treat-2/
CATEGORIES:Community Events,Holiday Celebrations,Home page,Resident Info
END:VEVENT
BEGIN:VEVENT
DTSTART;TZID=America/New_York:20251009T190000
DTEND;TZID=America/New_York:20251010T070000
DTSTAMP:20260425T170650
CREATED:20251008T144453Z
LAST-MODIFIED:20251008T144518Z
UID:20952-1760036400-1760079600@villageofburton.org
SUMMARY:GARDEN STREET IMPROVEMENTS
DESCRIPTION:10082025TEMPORARY WATER SHUTOFFS GARDEN STR
URL:https://villageofburton.org/event/garden-street-improvements/
CATEGORIES:Community Events,Home page,Resident Info,UTILITY DEPARTMENT
END:VEVENT
BEGIN:VEVENT
DTSTART;VALUE=DATE:20250625
DTEND;VALUE=DATE:20250626
DTSTAMP:20260425T170650
CREATED:20250611T174942Z
LAST-MODIFIED:20250611T204808Z
UID:20795-1750809600-1750895999@villageofburton.org
SUMMARY:***PAVING BEGINS ***
DESCRIPTION:STARTING JUNE 25\, 2025\, THE VILLAGE OF BURTON WILL BEGIN PAVING THE FOLLOWING ROADS: \nSPRING STREET \nBAIRD STREET \nHICKOX STREET \n** PLEASE WATCH FOR CONSTRUCTION WORKERS AND EQUIPMENT** PLEASE SLOW DOWN AND GIVE THEM ROOM.
URL:https://villageofburton.org/event/paving-begins/
CATEGORIES:Community Events,Home page,Resident Info
END:VEVENT
BEGIN:VEVENT
DTSTART;TZID=America/New_York:20250609T190000
DTEND;TZID=America/New_York:20250609T200000
DTSTAMP:20260425T170650
CREATED:20250515T162756Z
LAST-MODIFIED:20250515T180316Z
UID:20759-1749495600-1749499200@villageofburton.org
SUMMARY:PUBLIC HEARING FISCAL YEAR 2026 TAX BUDGET
DESCRIPTION:
URL:https://villageofburton.org/event/public-hearing-3/
CATEGORIES:Resident Info,VOB Meetings
END:VEVENT
BEGIN:VEVENT
DTSTART;TZID=America/New_York:20250606T080000
DTEND;TZID=America/New_York:20250606T120000
DTSTAMP:20260425T170650
CREATED:20250603T193312Z
LAST-MODIFIED:20250606T134823Z
UID:20781-1749196800-1749211200@villageofburton.org
SUMMARY:OFFICE CLOSING EARLY
DESCRIPTION:DUE TO APPOINTMENTS THIS FRIDAY\, JUNE 6TH\, THE OFFICE WILL BE CLOSING EARLY. WE APOLOGIZE FOR ANY AND ALL INCONVENIENCE. \n 
URL:https://villageofburton.org/event/office-closing-early/
CATEGORIES:Resident Info
END:VEVENT
BEGIN:VEVENT
DTSTART;TZID=America/New_York:20250603T163000
DTEND;TZID=America/New_York:20250603T163000
DTSTAMP:20260425T170650
CREATED:20250603T192930Z
LAST-MODIFIED:20250603T192947Z
UID:20777-1748968200-1748968200@villageofburton.org
SUMMARY:OFFICE CLOSING AT 4:00
DESCRIPTION:DUE TO ONE PERSON IN THE OFFICE THIS WEEK OFFICE HOURS WILL BE AFFECTED. WE APOLOGIZE FOR THE INCONVENIENCE. \nOFFICE HOURS THIS WEEK WILL BE 8:00 AM TO 4:00 PM TUESDAY THRU FRIDAY.
URL:https://villageofburton.org/event/office-closing-at-400/
CATEGORIES:Resident Info
END:VEVENT
BEGIN:VEVENT
DTSTART;TZID=America/New_York:20250527T190000
DTEND;TZID=America/New_York:20250527T200000
DTSTAMP:20260425T170650
CREATED:20250423T201534Z
LAST-MODIFIED:20250423T204035Z
UID:20708-1748372400-1748376000@villageofburton.org
SUMMARY:Public Hearing May 27\, 2025
DESCRIPTION:PUBLIC HEARING 5-27-2025 click here
URL:https://villageofburton.org/event/public-hearing-may-27-2025/
CATEGORIES:Resident Info,Zoning Commission Meeting
END:VEVENT
BEGIN:VEVENT
DTSTART;TZID=America/New_York:20250527T190000
DTEND;TZID=America/New_York:20250527T200000
DTSTAMP:20260425T170650
CREATED:20250423T125124Z
LAST-MODIFIED:20250423T125124Z
UID:20644-1748372400-1748376000@villageofburton.org
SUMMARY:PUBLIC HEARING ** EAST WALDEN PROPERTIES LLC
DESCRIPTION:
URL:https://villageofburton.org/event/public-hearing-east-walden-properties-llc/
CATEGORIES:Home page,Resident Info,VOB Meetings
END:VEVENT
BEGIN:VEVENT
DTSTART;TZID=America/New_York:20250519T070000
DTEND;TZID=America/New_York:20250523T150000
DTSTAMP:20260425T170650
CREATED:20250423T175817Z
LAST-MODIFIED:20250423T175817Z
UID:20690-1747638000-1748012400@villageofburton.org
SUMMARY:HYDRANT FLUSHING
DESCRIPTION:Hydrant flushing will be on May 12 – 16 and 19-23 weekdays only. Signs will be posted on street that are in the process of being flushed. \n 
URL:https://villageofburton.org/event/hydrant-flushing-2/
CATEGORIES:Home page,Resident Info,UTILITY DEPARTMENT
END:VEVENT
BEGIN:VEVENT
DTSTART;TZID=America/New_York:20250512T070000
DTEND;TZID=America/New_York:20250516T150000
DTSTAMP:20260425T170650
CREATED:20250423T175452Z
LAST-MODIFIED:20250423T175537Z
UID:20686-1747033200-1747407600@villageofburton.org
SUMMARY:HYDRANT FLUSHING
DESCRIPTION:Hydrant flushing will be May 12-16 and 19-23 weekdays only. Signs will be posted on streets that are in the process of being flushed.
URL:https://villageofburton.org/event/hydrant-flushing/
CATEGORIES:Home page,Resident Info,UTILITY DEPARTMENT
END:VEVENT
BEGIN:VEVENT
DTSTART;TZID=America/New_York:20250510T080000
DTEND;TZID=America/New_York:20250510T123000
DTSTAMP:20260425T170650
CREATED:20250423T151632Z
LAST-MODIFIED:20250423T152819Z
UID:20677-1746864000-1746880200@villageofburton.org
SUMMARY:SPECIAL TRASH PICK-UP & TIRE DROP OFF
DESCRIPTION:ITEMS MAY BE PLACED AT THE CURB STARTING MAY 3RD.  \nDO NOT PLACE THE FOLLOWING OUT FOR PICK UP ** IF OUR CREWS NOTICE THE FOLLOWING ITEMS FROM THE LIST BELOW\, THEY WILL NOT BE COLLECTED ** \n\nTIRES\nGARDEN DEBRIS\nBRANCHES\nBRUSH\nLEAVES\nBRICKS\nGLASS\nROCKS\nTOXIC CHEMICALS\nPAINT\nBATTERIES\nITEMS CONTAINING FREON\nHAZARDOUS WASTE\nENGINE BLOCKS\nHEAVY AUTOMOBILE PARTS\n\n**Furniture & Mattresses must be wrapped in plastic** / Items may NOT exceed 150 pounds / Small debris must be tied up\, bagged OR in containers. \nThe maximum load time is 15 minutes per address. Once our crews have left your address\, they WILL NOT RETURN ** \nTIRE DROP OFF INSTRUCTIONS: \nDrop off tires at the Village of Burton Street Department – 13875 Memorial Drive from 8:00am to 12:00pm \nLimit of 8 tires per household – \ntires on the RIMS WILL NOT BE ACCEPTED ** \n** PROOF OF VILLAGE RESIDENCY IS REQUIRED ** \n 
URL:https://villageofburton.org/event/special-trash-pick-up/
CATEGORIES:Community Events,Home page,Resident Info
END:VEVENT
BEGIN:VEVENT
DTSTART;TZID=America/New_York:20250502T080000
DTEND;TZID=America/New_York:20250502T150000
DTSTAMP:20260425T170650
CREATED:20250401T175306Z
LAST-MODIFIED:20250425T171930Z
UID:20625-1746172800-1746198000@villageofburton.org
SUMMARY:DEADLINE FOR SENIORS TO REGISTER FOR TRASH DAY **
DESCRIPTION:GEAUGA COUNTY SENIOR TRASH DAY click here
URL:https://villageofburton.org/event/senior-trash-day-seniors-must-register/
CATEGORIES:Community Events,Home page,Resident Info
END:VEVENT
BEGIN:VEVENT
DTSTART;TZID=America/New_York:20250421T070000
DTEND;TZID=America/New_York:20250421T150000
DTSTAMP:20260425T170650
CREATED:20250324T203434Z
LAST-MODIFIED:20250324T203556Z
UID:20610-1745218800-1745247600@villageofburton.org
SUMMARY:SPRING BRUSH PICK-UP***
DESCRIPTION:SPRING BRUSH PICK-UP 2025
URL:https://villageofburton.org/event/spring-brush-pick-up/
CATEGORIES:Community Events,Home page,Resident Info
END:VEVENT
BEGIN:VEVENT
DTSTART;TZID=America/New_York:20250404T160000
DTEND;TZID=America/New_York:20250404T170000
DTSTAMP:20260425T170650
CREATED:20250324T201056Z
LAST-MODIFIED:20250401T201757Z
UID:20606-1743782400-1743786000@villageofburton.org
SUMMARY:**PUBLIC HEARING-4:00pm**
DESCRIPTION:PLANNING COMM 4-4-2025
URL:https://villageofburton.org/event/public-hearing-2/
CATEGORIES:Resident Info,VOB Meetings,Zoning Commission Meeting
END:VEVENT
BEGIN:VEVENT
DTSTART;VALUE=DATE:20241015
DTEND;VALUE=DATE:20241016
DTSTAMP:20260425T170650
CREATED:20241003T193218Z
LAST-MODIFIED:20241003T193218Z
UID:20092-1728950400-1729036799@villageofburton.org
SUMMARY:FALL BRUSH PICK-UP
DESCRIPTION:
URL:https://villageofburton.org/event/fall-brush-pick-up/
LOCATION:Village of Burton\, 14588 W Park Street\, Burton\, OH\, 44021\, United States
CATEGORIES:Community Events,Resident Info
ORGANIZER;CN="Village of Burton":MAILTO:1villageofburton@sbcglobal.net
END:VEVENT
BEGIN:VEVENT
DTSTART;VALUE=DATE:20241007
DTEND;VALUE=DATE:20241019
DTSTAMP:20260425T170650
CREATED:20241002T195310Z
LAST-MODIFIED:20241002T195310Z
UID:20066-1728259200-1729295999@villageofburton.org
SUMMARY:** ATTENTION ** The Village of Burton Utilities Dept. will flush all hydrants beginning October 7th thru October 18th.
DESCRIPTION:
URL:https://villageofburton.org/event/attention-the-village-of-burton-utilities-dept-will-flush-all-hydrants-beginning-october-7th-thru-october-18th/
LOCATION:Village of Burton\, 14588 W Park Street\, Burton\, OH\, 44021\, United States
CATEGORIES:Resident Info
ORGANIZER;CN="Village of Burton":MAILTO:1villageofburton@sbcglobal.net
END:VEVENT
END:VCALENDAR