BEGIN:VCALENDAR
VERSION:2.0
PRODID:-//Village of Burton - ECPv6.15.20//NONSGML v1.0//EN
CALSCALE:GREGORIAN
METHOD:PUBLISH
X-ORIGINAL-URL:https://villageofburton.org
X-WR-CALDESC:Events for Village of Burton
REFRESH-INTERVAL;VALUE=DURATION:PT1H
X-Robots-Tag:noindex
X-PUBLISHED-TTL:PT1H
BEGIN:VTIMEZONE
TZID:America/New_York
BEGIN:DAYLIGHT
TZOFFSETFROM:-0500
TZOFFSETTO:-0400
TZNAME:EDT
DTSTART:20220313T070000
END:DAYLIGHT
BEGIN:STANDARD
TZOFFSETFROM:-0400
TZOFFSETTO:-0500
TZNAME:EST
DTSTART:20221106T060000
END:STANDARD
BEGIN:DAYLIGHT
TZOFFSETFROM:-0500
TZOFFSETTO:-0400
TZNAME:EDT
DTSTART:20230312T070000
END:DAYLIGHT
BEGIN:STANDARD
TZOFFSETFROM:-0400
TZOFFSETTO:-0500
TZNAME:EST
DTSTART:20231105T060000
END:STANDARD
BEGIN:DAYLIGHT
TZOFFSETFROM:-0500
TZOFFSETTO:-0400
TZNAME:EDT
DTSTART:20240310T070000
END:DAYLIGHT
BEGIN:STANDARD
TZOFFSETFROM:-0400
TZOFFSETTO:-0500
TZNAME:EST
DTSTART:20241103T060000
END:STANDARD
END:VTIMEZONE
BEGIN:VEVENT
DTSTART;TZID=America/New_York:20231106T180000
DTEND;TZID=America/New_York:20231106T190000
DTSTAMP:20260424T213313
CREATED:20230629T195816Z
LAST-MODIFIED:20230629T195816Z
UID:18184-1699293600-1699297200@villageofburton.org
SUMMARY:Tree Commission
DESCRIPTION:
URL:https://villageofburton.org/event/tree-commission-5/
CATEGORIES:VOB Meetings
END:VEVENT
BEGIN:VEVENT
DTSTART;TZID=America/New_York:20231113T190000
DTEND;TZID=America/New_York:20231113T200000
DTSTAMP:20260424T213313
CREATED:20230629T195327Z
LAST-MODIFIED:20230629T195327Z
UID:18170-1699902000-1699905600@villageofburton.org
SUMMARY:Council meets
DESCRIPTION:
URL:https://villageofburton.org/event/council-meets-3/
CATEGORIES:VOB Meetings
END:VEVENT
BEGIN:VEVENT
DTSTART;TZID=America/New_York:20231114T190000
DTEND;TZID=America/New_York:20231114T190000
DTSTAMP:20260424T213313
CREATED:20230629T194706Z
LAST-MODIFIED:20230629T194706Z
UID:18159-1699988400-1699988400@villageofburton.org
SUMMARY:BPA Meeting
DESCRIPTION:
URL:https://villageofburton.org/event/bpa-meeting-6/
CATEGORIES:VOB Meetings
END:VEVENT
BEGIN:VEVENT
DTSTART;TZID=America/New_York:20231127T190000
DTEND;TZID=America/New_York:20231127T200000
DTSTAMP:20260424T213313
CREATED:20230629T195512Z
LAST-MODIFIED:20230629T195512Z
UID:18176-1701111600-1701115200@villageofburton.org
SUMMARY:Council meets
DESCRIPTION:
URL:https://villageofburton.org/event/council-meets-6/
CATEGORIES:VOB Meetings
END:VEVENT
END:VCALENDAR