BEGIN:VCALENDAR
VERSION:2.0
PRODID:-//Village of Burton - ECPv6.15.20//NONSGML v1.0//EN
CALSCALE:GREGORIAN
METHOD:PUBLISH
X-WR-CALNAME:Village of Burton
X-ORIGINAL-URL:https://villageofburton.org
X-WR-CALDESC:Events for Village of Burton
REFRESH-INTERVAL;VALUE=DURATION:PT1H
X-Robots-Tag:noindex
X-PUBLISHED-TTL:PT1H
BEGIN:VTIMEZONE
TZID:America/New_York
BEGIN:DAYLIGHT
TZOFFSETFROM:-0500
TZOFFSETTO:-0400
TZNAME:EDT
DTSTART:20240310T070000
END:DAYLIGHT
BEGIN:STANDARD
TZOFFSETFROM:-0400
TZOFFSETTO:-0500
TZNAME:EST
DTSTART:20241103T060000
END:STANDARD
BEGIN:DAYLIGHT
TZOFFSETFROM:-0500
TZOFFSETTO:-0400
TZNAME:EDT
DTSTART:20250309T070000
END:DAYLIGHT
BEGIN:STANDARD
TZOFFSETFROM:-0400
TZOFFSETTO:-0500
TZNAME:EST
DTSTART:20251102T060000
END:STANDARD
BEGIN:DAYLIGHT
TZOFFSETFROM:-0500
TZOFFSETTO:-0400
TZNAME:EDT
DTSTART:20260308T070000
END:DAYLIGHT
BEGIN:STANDARD
TZOFFSETFROM:-0400
TZOFFSETTO:-0500
TZNAME:EST
DTSTART:20261101T060000
END:STANDARD
END:VTIMEZONE
BEGIN:VEVENT
DTSTART;TZID=America/New_York:20250404T160000
DTEND;TZID=America/New_York:20250404T170000
DTSTAMP:20260419T133816
CREATED:20250324T201056Z
LAST-MODIFIED:20250401T201757Z
UID:20606-1743782400-1743786000@villageofburton.org
SUMMARY:**PUBLIC HEARING-4:00pm**
DESCRIPTION:PLANNING COMM 4-4-2025
URL:https://villageofburton.org/event/public-hearing-2/
CATEGORIES:Resident Info,VOB Meetings,Zoning Commission Meeting
END:VEVENT
BEGIN:VEVENT
DTSTART;VALUE=DATE:20250409
DTEND;VALUE=DATE:20250410
DTSTAMP:20260419T133816
CREATED:20250324T195819Z
LAST-MODIFIED:20250401T200929Z
UID:20601-1744156800-1744243199@villageofburton.org
SUMMARY:** CANCELED-PUBLIC HEARING **
DESCRIPTION:PUBLIC HEARING FOR 4-9-25
URL:https://villageofburton.org/event/public-hearing/
CATEGORIES:BZA Meeting,VOB Meetings
END:VEVENT
BEGIN:VEVENT
DTSTART;TZID=America/New_York:20250417T173000
DTEND;TZID=America/New_York:20250417T183000
DTSTAMP:20260419T133816
CREATED:20241002T154828Z
LAST-MODIFIED:20241002T154828Z
UID:20013-1744911000-1744914600@villageofburton.org
SUMMARY:JEDD BOARD
DESCRIPTION:
URL:https://villageofburton.org/event/jedd-board/
LOCATION:Village of Burton\, 14588 W Park Street\, Burton\, OH\, 44021\, United States
CATEGORIES:JEDD meeting
END:VEVENT
END:VCALENDAR