BEGIN:VCALENDAR
VERSION:2.0
PRODID:-//Village of Burton - ECPv6.15.20//NONSGML v1.0//EN
CALSCALE:GREGORIAN
METHOD:PUBLISH
X-ORIGINAL-URL:https://villageofburton.org
X-WR-CALDESC:Events for Village of Burton
REFRESH-INTERVAL;VALUE=DURATION:PT1H
X-Robots-Tag:noindex
X-PUBLISHED-TTL:PT1H
BEGIN:VTIMEZONE
TZID:America/New_York
BEGIN:DAYLIGHT
TZOFFSETFROM:-0500
TZOFFSETTO:-0400
TZNAME:EDT
DTSTART:20240310T070000
END:DAYLIGHT
BEGIN:STANDARD
TZOFFSETFROM:-0400
TZOFFSETTO:-0500
TZNAME:EST
DTSTART:20241103T060000
END:STANDARD
BEGIN:DAYLIGHT
TZOFFSETFROM:-0500
TZOFFSETTO:-0400
TZNAME:EDT
DTSTART:20250309T070000
END:DAYLIGHT
BEGIN:STANDARD
TZOFFSETFROM:-0400
TZOFFSETTO:-0500
TZNAME:EST
DTSTART:20251102T060000
END:STANDARD
BEGIN:DAYLIGHT
TZOFFSETFROM:-0500
TZOFFSETTO:-0400
TZNAME:EDT
DTSTART:20260308T070000
END:DAYLIGHT
BEGIN:STANDARD
TZOFFSETFROM:-0400
TZOFFSETTO:-0500
TZNAME:EST
DTSTART:20261101T060000
END:STANDARD
END:VTIMEZONE
BEGIN:VEVENT
DTSTART;TZID=America/New_York:20250527T190000
DTEND;TZID=America/New_York:20250527T200000
DTSTAMP:20260419T114659
CREATED:20250423T125124Z
LAST-MODIFIED:20250423T125124Z
UID:20644-1748372400-1748376000@villageofburton.org
SUMMARY:PUBLIC HEARING ** EAST WALDEN PROPERTIES LLC
DESCRIPTION:
URL:https://villageofburton.org/event/public-hearing-east-walden-properties-llc/
CATEGORIES:Home page,Resident Info,VOB Meetings
END:VEVENT
END:VCALENDAR