BEGIN:VCALENDAR
VERSION:2.0
PRODID:-//Village of Burton - ECPv6.15.20//NONSGML v1.0//EN
CALSCALE:GREGORIAN
METHOD:PUBLISH
X-WR-CALNAME:Village of Burton
X-ORIGINAL-URL:https://villageofburton.org
X-WR-CALDESC:Events for Village of Burton
REFRESH-INTERVAL;VALUE=DURATION:PT1H
X-Robots-Tag:noindex
X-PUBLISHED-TTL:PT1H
BEGIN:VTIMEZONE
TZID:America/New_York
BEGIN:DAYLIGHT
TZOFFSETFROM:-0500
TZOFFSETTO:-0400
TZNAME:EDT
DTSTART:20230312T070000
END:DAYLIGHT
BEGIN:STANDARD
TZOFFSETFROM:-0400
TZOFFSETTO:-0500
TZNAME:EST
DTSTART:20231105T060000
END:STANDARD
BEGIN:DAYLIGHT
TZOFFSETFROM:-0500
TZOFFSETTO:-0400
TZNAME:EDT
DTSTART:20240310T070000
END:DAYLIGHT
BEGIN:STANDARD
TZOFFSETFROM:-0400
TZOFFSETTO:-0500
TZNAME:EST
DTSTART:20241103T060000
END:STANDARD
BEGIN:DAYLIGHT
TZOFFSETFROM:-0500
TZOFFSETTO:-0400
TZNAME:EDT
DTSTART:20250309T070000
END:DAYLIGHT
BEGIN:STANDARD
TZOFFSETFROM:-0400
TZOFFSETTO:-0500
TZNAME:EST
DTSTART:20251102T060000
END:STANDARD
END:VTIMEZONE
BEGIN:VEVENT
DTSTART;TZID=America/New_York:20241021T190000
DTEND;TZID=America/New_York:20241021T200000
DTSTAMP:20260419T104420
CREATED:20241017T181958Z
LAST-MODIFIED:20241017T181958Z
UID:20118-1729537200-1729540800@villageofburton.org
SUMMARY:Council Meeting
DESCRIPTION:
URL:https://villageofburton.org/event/council-meeting-7/
END:VEVENT
BEGIN:VEVENT
DTSTART;TZID=America/New_York:20241015T190000
DTEND;TZID=America/New_York:20241015T200000
DTSTAMP:20260419T104420
CREATED:20240215T193344Z
LAST-MODIFIED:20240215T193344Z
UID:19730-1729018800-1729022400@villageofburton.org
SUMMARY:Joint Meeting - Council & BPA
DESCRIPTION:Meeting rescheduled from October 8\, 2024
URL:https://villageofburton.org/event/joint-meeting-council-bpa/
LOCATION:Village of Burton\, 14588 W Park Street\, Burton\, OH\, 44021\, United States
CATEGORIES:BPA Meeting
ORGANIZER;CN="Village of Burton":MAILTO:1villageofburton@sbcglobal.net
END:VEVENT
BEGIN:VEVENT
DTSTART;VALUE=DATE:20241015
DTEND;VALUE=DATE:20241016
DTSTAMP:20260419T104420
CREATED:20241003T193218Z
LAST-MODIFIED:20241003T193218Z
UID:20092-1728950400-1729036799@villageofburton.org
SUMMARY:FALL BRUSH PICK-UP
DESCRIPTION:
URL:https://villageofburton.org/event/fall-brush-pick-up/
LOCATION:Village of Burton\, 14588 W Park Street\, Burton\, OH\, 44021\, United States
CATEGORIES:Community Events,Resident Info
ORGANIZER;CN="Village of Burton":MAILTO:1villageofburton@sbcglobal.net
END:VEVENT
BEGIN:VEVENT
DTSTART;TZID=America/New_York:20241014T080000
DTEND;TZID=America/New_York:20241014T170000
DTSTAMP:20260419T104420
CREATED:20241003T205845Z
LAST-MODIFIED:20241003T205845Z
UID:20113-1728892800-1728925200@villageofburton.org
SUMMARY:Columbus Day - Village Office Closed
DESCRIPTION:co
URL:https://villageofburton.org/event/columbus-day-village-office-closed/
CATEGORIES:Holiday Celebrations
END:VEVENT
BEGIN:VEVENT
DTSTART;TZID=America/New_York:20241007T183000
DTEND;TZID=America/New_York:20241007T183000
DTSTAMP:20260419T104420
CREATED:20240111T170051Z
LAST-MODIFIED:20240111T170051Z
UID:19670-1728325800-1728325800@villageofburton.org
SUMMARY:TREE COMMISSION
DESCRIPTION:TREE COMMISSION will meet in the James Room at the Burton Public Library
URL:https://villageofburton.org/event/tree-commission-16/
END:VEVENT
BEGIN:VEVENT
DTSTART;VALUE=DATE:20241007
DTEND;VALUE=DATE:20241019
DTSTAMP:20260419T104420
CREATED:20241002T195310Z
LAST-MODIFIED:20241002T195310Z
UID:20066-1728259200-1729295999@villageofburton.org
SUMMARY:** ATTENTION ** The Village of Burton Utilities Dept. will flush all hydrants beginning October 7th thru October 18th.
DESCRIPTION:
URL:https://villageofburton.org/event/attention-the-village-of-burton-utilities-dept-will-flush-all-hydrants-beginning-october-7th-thru-october-18th/
LOCATION:Village of Burton\, 14588 W Park Street\, Burton\, OH\, 44021\, United States
CATEGORIES:Resident Info
ORGANIZER;CN="Village of Burton":MAILTO:1villageofburton@sbcglobal.net
END:VEVENT
BEGIN:VEVENT
DTSTART;TZID=America/New_York:20240923T190000
DTEND;TZID=America/New_York:20240923T200000
DTSTAMP:20260419T104420
CREATED:20230927T175042Z
LAST-MODIFIED:20230927T180033Z
UID:19514-1727118000-1727121600@villageofburton.org
SUMMARY:Council Meeting
DESCRIPTION:
URL:https://villageofburton.org/event/council-meeting-21/
END:VEVENT
BEGIN:VEVENT
DTSTART;VALUE=DATE:20240922
DTEND;VALUE=DATE:20240923
DTSTAMP:20260419T104420
CREATED:20240909T195239Z
LAST-MODIFIED:20240909T195239Z
UID:19976-1726963200-1727049599@villageofburton.org
SUMMARY:FALL BEGINS
DESCRIPTION:
URL:https://villageofburton.org/event/fall-begins/
END:VEVENT
BEGIN:VEVENT
DTSTART;TZID=America/New_York:20240920T150000
DTEND;TZID=America/New_York:20240920T180000
DTSTAMP:20260419T104420
CREATED:20240909T194920Z
LAST-MODIFIED:20240909T194920Z
UID:19974-1726844400-1726855200@villageofburton.org
SUMMARY:SHRED DAY
DESCRIPTION:
URL:https://villageofburton.org/event/shred-day/
CATEGORIES:Home page
END:VEVENT
BEGIN:VEVENT
DTSTART;TZID=America/New_York:20240919T173000
DTEND;TZID=America/New_York:20240919T183000
DTSTAMP:20260419T104420
CREATED:20240613T173340Z
LAST-MODIFIED:20240613T173340Z
UID:19894-1726767000-1726770600@villageofburton.org
SUMMARY:JEDD Meeting
DESCRIPTION:
URL:https://villageofburton.org/event/jedd-meeting-2/
LOCATION:Village of Burton\, 14588 W Park Street\, Burton\, OH\, 44021\, United States
CATEGORIES:JEDD meeting
ORGANIZER;CN="Village of Burton":MAILTO:1villageofburton@sbcglobal.net
END:VEVENT
BEGIN:VEVENT
DTSTART;TZID=America/New_York:20240910T190000
DTEND;TZID=America/New_York:20240910T200000
DTSTAMP:20260419T104420
CREATED:20231101T165630Z
LAST-MODIFIED:20231101T170036Z
UID:19554-1725994800-1725998400@villageofburton.org
SUMMARY:BPA Meeting
DESCRIPTION:
URL:https://villageofburton.org/event/bpa-meeting-16/
LOCATION:Village of Burton\, 14588 W Park Street\, Burton\, OH\, 44021\, United States
CATEGORIES:VOB Meetings
ORGANIZER;CN="Village of Burton":MAILTO:1villageofburton@sbcglobal.net
END:VEVENT
BEGIN:VEVENT
DTSTART;TZID=America/New_York:20240909T190000
DTEND;TZID=America/New_York:20240909T200000
DTSTAMP:20260419T104420
CREATED:20230927T174954Z
LAST-MODIFIED:20230927T174954Z
UID:19512-1725908400-1725912000@villageofburton.org
SUMMARY:Council Meeeting
DESCRIPTION:(Summer Schedule)
URL:https://villageofburton.org/event/council-meeeting/
END:VEVENT
BEGIN:VEVENT
DTSTART;TZID=America/New_York:20240909T183000
DTEND;TZID=America/New_York:20240909T183000
DTSTAMP:20260419T104420
CREATED:20240111T170004Z
LAST-MODIFIED:20240111T170004Z
UID:19668-1725906600-1725906600@villageofburton.org
SUMMARY:TREE COMMISSION **
DESCRIPTION:** TREE COMMISSION will meet in the James Room at the Burton Public Library.  Second Monday **
URL:https://villageofburton.org/event/tree-commission-15/
END:VEVENT
BEGIN:VEVENT
DTSTART;TZID=America/New_York:20240827T180000
DTEND;TZID=America/New_York:20240827T190000
DTSTAMP:20260419T104420
CREATED:20240826T180219Z
LAST-MODIFIED:20240826T180317Z
UID:19965-1724781600-1724785200@villageofburton.org
SUMMARY:BZA MEETING / CANCELED
DESCRIPTION:BZA MEETING CANCELED FOR 8/27/2024
URL:https://villageofburton.org/event/bza-meeting/
CATEGORIES:BZA Meeting
END:VEVENT
BEGIN:VEVENT
DTSTART;TZID=America/New_York:20240813T190000
DTEND;TZID=America/New_York:20240813T200000
DTSTAMP:20260419T104420
CREATED:20231101T165606Z
LAST-MODIFIED:20231101T170040Z
UID:19552-1723575600-1723579200@villageofburton.org
SUMMARY:BPA Meeting
DESCRIPTION:
URL:https://villageofburton.org/event/bpa-meeting-15/
LOCATION:Village of Burton\, 14588 W Park Street\, Burton\, OH\, 44021\, United States
CATEGORIES:VOB Meetings
ORGANIZER;CN="Village of Burton":MAILTO:1villageofburton@sbcglobal.net
END:VEVENT
BEGIN:VEVENT
DTSTART;TZID=America/New_York:20240812T190000
DTEND;TZID=America/New_York:20240812T200000
DTSTAMP:20260419T104420
CREATED:20230927T174831Z
LAST-MODIFIED:20230927T174831Z
UID:19510-1723489200-1723492800@villageofburton.org
SUMMARY:Council Meeting
DESCRIPTION:(Summer Schedule)
URL:https://villageofburton.org/event/council-meeting-20/
END:VEVENT
BEGIN:VEVENT
DTSTART;TZID=America/New_York:20240805T183000
DTEND;TZID=America/New_York:20240805T183000
DTSTAMP:20260419T104420
CREATED:20240111T165820Z
LAST-MODIFIED:20240111T165820Z
UID:19666-1722882600-1722882600@villageofburton.org
SUMMARY:TREE COMMISSION
DESCRIPTION:TREE COMMISSION will meet in the James Room of the Burton Public Library
URL:https://villageofburton.org/event/tree-commission-14/
END:VEVENT
BEGIN:VEVENT
DTSTART;TZID=America/New_York:20240709T190000
DTEND;TZID=America/New_York:20240709T200000
DTSTAMP:20260419T104420
CREATED:20231101T165543Z
LAST-MODIFIED:20231101T170043Z
UID:19550-1720551600-1720555200@villageofburton.org
SUMMARY:BPA Meeting
DESCRIPTION:
URL:https://villageofburton.org/event/bpa-meeting-14/
LOCATION:Village of Burton\, 14588 W Park Street\, Burton\, OH\, 44021\, United States
CATEGORIES:VOB Meetings
ORGANIZER;CN="Village of Burton":MAILTO:1villageofburton@sbcglobal.net
END:VEVENT
BEGIN:VEVENT
DTSTART;TZID=America/New_York:20240708T190000
DTEND;TZID=America/New_York:20240708T200000
DTSTAMP:20260419T104420
CREATED:20230927T174755Z
LAST-MODIFIED:20230927T174755Z
UID:19508-1720465200-1720468800@villageofburton.org
SUMMARY:Council Meeting
DESCRIPTION:(Summer Schedule)
URL:https://villageofburton.org/event/council-meeting-19/
END:VEVENT
BEGIN:VEVENT
DTSTART;VALUE=DATE:20240704
DTEND;VALUE=DATE:20240705
DTSTAMP:20260419T104420
CREATED:20240613T172305Z
LAST-MODIFIED:20240613T173544Z
UID:19891-1720051200-1720137599@villageofburton.org
SUMMARY:JULY 4
DESCRIPTION:
URL:https://villageofburton.org/event/july-4/
LOCATION:Village of Burton\, 14588 W Park Street\, Burton\, OH\, 44021\, United States
CATEGORIES:Holiday Celebrations
ORGANIZER;CN="Village of Burton":MAILTO:1villageofburton@sbcglobal.net
END:VEVENT
BEGIN:VEVENT
DTSTART;VALUE=DATE:20240619
DTEND;VALUE=DATE:20240620
DTSTAMP:20260419T104420
CREATED:20240508T183012Z
LAST-MODIFIED:20240508T183012Z
UID:19839-1718755200-1718841599@villageofburton.org
SUMMARY:JUNETEENTH
DESCRIPTION:the Village office will be closed in observance of Juneteenth
URL:https://villageofburton.org/event/juneteenth/
CATEGORIES:Holiday Celebrations
END:VEVENT
BEGIN:VEVENT
DTSTART;TZID=America/New_York:20240611T190000
DTEND;TZID=America/New_York:20240611T200000
DTSTAMP:20260419T104420
CREATED:20231101T165521Z
LAST-MODIFIED:20231101T170047Z
UID:19548-1718132400-1718136000@villageofburton.org
SUMMARY:BPA Meeting
DESCRIPTION:
URL:https://villageofburton.org/event/bpa-meeting-13/
LOCATION:Village of Burton\, 14588 W Park Street\, Burton\, OH\, 44021\, United States
CATEGORIES:VOB Meetings
ORGANIZER;CN="Village of Burton":MAILTO:1villageofburton@sbcglobal.net
END:VEVENT
BEGIN:VEVENT
DTSTART;TZID=America/New_York:20240610T190000
DTEND;TZID=America/New_York:20240610T200000
DTSTAMP:20260419T104420
CREATED:20230927T174657Z
LAST-MODIFIED:20230927T174657Z
UID:19506-1718046000-1718049600@villageofburton.org
SUMMARY:Council Meeting
DESCRIPTION:(Summer Schedule)
URL:https://villageofburton.org/event/council-meeting-18/
END:VEVENT
BEGIN:VEVENT
DTSTART;TZID=America/New_York:20240603T183000
DTEND;TZID=America/New_York:20240603T183000
DTSTAMP:20260419T104420
CREATED:20240111T165544Z
LAST-MODIFIED:20240111T165544Z
UID:19660-1717439400-1717439400@villageofburton.org
SUMMARY:TREE COMMISSION
DESCRIPTION:TREE COMMISSION will meet in the James Room at the Burton Public Library
URL:https://villageofburton.org/event/tree-commission-11/
END:VEVENT
BEGIN:VEVENT
DTSTART;TZID=America/New_York:20240528T190000
DTEND;TZID=America/New_York:20240528T200000
DTSTAMP:20260419T104420
CREATED:20230927T174549Z
LAST-MODIFIED:20230927T180147Z
UID:19504-1716922800-1716926400@villageofburton.org
SUMMARY:Council Meeting
DESCRIPTION:(Tuesday-Memorial Day week)
URL:https://villageofburton.org/event/council-meeting-17/
END:VEVENT
BEGIN:VEVENT
DTSTART;VALUE=DATE:20240527
DTEND;VALUE=DATE:20240528
DTSTAMP:20260419T104420
CREATED:20240508T144356Z
LAST-MODIFIED:20240508T144509Z
UID:19825-1716768000-1716854399@villageofburton.org
SUMMARY:MEMORIAL DAY
DESCRIPTION:Village office will be closed in observance of Memorial Day
URL:https://villageofburton.org/event/memorial-day/
CATEGORIES:Holiday Celebrations
END:VEVENT
BEGIN:VEVENT
DTSTART;TZID=America/New_York:20240514T190000
DTEND;TZID=America/New_York:20240514T200000
DTSTAMP:20260419T104420
CREATED:20231101T165453Z
LAST-MODIFIED:20231101T170051Z
UID:19546-1715713200-1715716800@villageofburton.org
SUMMARY:BPA Meeting
DESCRIPTION:
URL:https://villageofburton.org/event/bpa-meeting-12/
LOCATION:Village of Burton\, 14588 W Park Street\, Burton\, OH\, 44021\, United States
CATEGORIES:VOB Meetings
ORGANIZER;CN="Village of Burton":MAILTO:1villageofburton@sbcglobal.net
END:VEVENT
BEGIN:VEVENT
DTSTART;TZID=America/New_York:20240513T190000
DTEND;TZID=America/New_York:20240513T200000
DTSTAMP:20260419T104420
CREATED:20230927T174443Z
LAST-MODIFIED:20230927T174443Z
UID:19501-1715626800-1715630400@villageofburton.org
SUMMARY:Council Meeting
DESCRIPTION:
URL:https://villageofburton.org/event/council-meeting-16/
END:VEVENT
BEGIN:VEVENT
DTSTART;VALUE=DATE:20240511
DTEND;VALUE=DATE:20240512
DTSTAMP:20260419T104420
CREATED:20240508T143910Z
LAST-MODIFIED:20240508T143910Z
UID:19821-1715385600-1715471999@villageofburton.org
SUMMARY:SPRING SPECIAL PICKUP
DESCRIPTION:please have all special pickups on your tree lawn by 6:00AM**
URL:https://villageofburton.org/event/spring-special-pickup/
ORGANIZER;CN="Village of Burton":MAILTO:1villageofburton@sbcglobal.net
END:VEVENT
BEGIN:VEVENT
DTSTART;TZID=America/New_York:20240506T183000
DTEND;TZID=America/New_York:20240506T183000
DTSTAMP:20260419T104420
CREATED:20240111T165436Z
LAST-MODIFIED:20240111T165436Z
UID:19658-1715020200-1715020200@villageofburton.org
SUMMARY:TREE COMMISSION
DESCRIPTION:TREE COMMISSION will meet in the James Room of the Burton Public Library
URL:https://villageofburton.org/event/tree-commission-10/
END:VEVENT
END:VCALENDAR