BEGIN:VCALENDAR
VERSION:2.0
PRODID:-//Village of Burton - ECPv6.15.20//NONSGML v1.0//EN
CALSCALE:GREGORIAN
METHOD:PUBLISH
X-WR-CALNAME:Village of Burton
X-ORIGINAL-URL:https://villageofburton.org
X-WR-CALDESC:Events for Village of Burton
REFRESH-INTERVAL;VALUE=DURATION:PT1H
X-Robots-Tag:noindex
X-PUBLISHED-TTL:PT1H
BEGIN:VTIMEZONE
TZID:America/New_York
BEGIN:DAYLIGHT
TZOFFSETFROM:-0500
TZOFFSETTO:-0400
TZNAME:EDT
DTSTART:20220313T070000
END:DAYLIGHT
BEGIN:STANDARD
TZOFFSETFROM:-0400
TZOFFSETTO:-0500
TZNAME:EST
DTSTART:20221106T060000
END:STANDARD
BEGIN:DAYLIGHT
TZOFFSETFROM:-0500
TZOFFSETTO:-0400
TZNAME:EDT
DTSTART:20230312T070000
END:DAYLIGHT
BEGIN:STANDARD
TZOFFSETFROM:-0400
TZOFFSETTO:-0500
TZNAME:EST
DTSTART:20231105T060000
END:STANDARD
BEGIN:DAYLIGHT
TZOFFSETFROM:-0500
TZOFFSETTO:-0400
TZNAME:EDT
DTSTART:20240310T070000
END:DAYLIGHT
BEGIN:STANDARD
TZOFFSETFROM:-0400
TZOFFSETTO:-0500
TZNAME:EST
DTSTART:20241103T060000
END:STANDARD
BEGIN:DAYLIGHT
TZOFFSETFROM:-0500
TZOFFSETTO:-0400
TZNAME:EDT
DTSTART:20250309T070000
END:DAYLIGHT
BEGIN:STANDARD
TZOFFSETFROM:-0400
TZOFFSETTO:-0500
TZNAME:EST
DTSTART:20251102T060000
END:STANDARD
END:VTIMEZONE
BEGIN:VEVENT
DTSTART;VALUE=DATE:20240619
DTEND;VALUE=DATE:20240620
DTSTAMP:20260419T142133
CREATED:20240508T183012Z
LAST-MODIFIED:20240508T183012Z
UID:19839-1718755200-1718841599@villageofburton.org
SUMMARY:JUNETEENTH
DESCRIPTION:the Village office will be closed in observance of Juneteenth
URL:https://villageofburton.org/event/juneteenth/
CATEGORIES:Holiday Celebrations
END:VEVENT
BEGIN:VEVENT
DTSTART;TZID=America/New_York:20240611T190000
DTEND;TZID=America/New_York:20240611T200000
DTSTAMP:20260419T142133
CREATED:20231101T165521Z
LAST-MODIFIED:20231101T170047Z
UID:19548-1718132400-1718136000@villageofburton.org
SUMMARY:BPA Meeting
DESCRIPTION:
URL:https://villageofburton.org/event/bpa-meeting-13/
LOCATION:Village of Burton\, 14588 W Park Street\, Burton\, OH\, 44021\, United States
CATEGORIES:VOB Meetings
ORGANIZER;CN="Village of Burton":MAILTO:1villageofburton@sbcglobal.net
END:VEVENT
BEGIN:VEVENT
DTSTART;TZID=America/New_York:20240610T190000
DTEND;TZID=America/New_York:20240610T200000
DTSTAMP:20260419T142133
CREATED:20230927T174657Z
LAST-MODIFIED:20230927T174657Z
UID:19506-1718046000-1718049600@villageofburton.org
SUMMARY:Council Meeting
DESCRIPTION:(Summer Schedule)
URL:https://villageofburton.org/event/council-meeting-18/
END:VEVENT
BEGIN:VEVENT
DTSTART;TZID=America/New_York:20240603T183000
DTEND;TZID=America/New_York:20240603T183000
DTSTAMP:20260419T142133
CREATED:20240111T165544Z
LAST-MODIFIED:20240111T165544Z
UID:19660-1717439400-1717439400@villageofburton.org
SUMMARY:TREE COMMISSION
DESCRIPTION:TREE COMMISSION will meet in the James Room at the Burton Public Library
URL:https://villageofburton.org/event/tree-commission-11/
END:VEVENT
BEGIN:VEVENT
DTSTART;TZID=America/New_York:20240528T190000
DTEND;TZID=America/New_York:20240528T200000
DTSTAMP:20260419T142133
CREATED:20230927T174549Z
LAST-MODIFIED:20230927T180147Z
UID:19504-1716922800-1716926400@villageofburton.org
SUMMARY:Council Meeting
DESCRIPTION:(Tuesday-Memorial Day week)
URL:https://villageofburton.org/event/council-meeting-17/
END:VEVENT
BEGIN:VEVENT
DTSTART;VALUE=DATE:20240527
DTEND;VALUE=DATE:20240528
DTSTAMP:20260419T142133
CREATED:20240508T144356Z
LAST-MODIFIED:20240508T144509Z
UID:19825-1716768000-1716854399@villageofburton.org
SUMMARY:MEMORIAL DAY
DESCRIPTION:Village office will be closed in observance of Memorial Day
URL:https://villageofburton.org/event/memorial-day/
CATEGORIES:Holiday Celebrations
END:VEVENT
BEGIN:VEVENT
DTSTART;TZID=America/New_York:20240514T190000
DTEND;TZID=America/New_York:20240514T200000
DTSTAMP:20260419T142133
CREATED:20231101T165453Z
LAST-MODIFIED:20231101T170051Z
UID:19546-1715713200-1715716800@villageofburton.org
SUMMARY:BPA Meeting
DESCRIPTION:
URL:https://villageofburton.org/event/bpa-meeting-12/
LOCATION:Village of Burton\, 14588 W Park Street\, Burton\, OH\, 44021\, United States
CATEGORIES:VOB Meetings
ORGANIZER;CN="Village of Burton":MAILTO:1villageofburton@sbcglobal.net
END:VEVENT
BEGIN:VEVENT
DTSTART;TZID=America/New_York:20240513T190000
DTEND;TZID=America/New_York:20240513T200000
DTSTAMP:20260419T142133
CREATED:20230927T174443Z
LAST-MODIFIED:20230927T174443Z
UID:19501-1715626800-1715630400@villageofburton.org
SUMMARY:Council Meeting
DESCRIPTION:
URL:https://villageofburton.org/event/council-meeting-16/
END:VEVENT
BEGIN:VEVENT
DTSTART;VALUE=DATE:20240511
DTEND;VALUE=DATE:20240512
DTSTAMP:20260419T142133
CREATED:20240508T143910Z
LAST-MODIFIED:20240508T143910Z
UID:19821-1715385600-1715471999@villageofburton.org
SUMMARY:SPRING SPECIAL PICKUP
DESCRIPTION:please have all special pickups on your tree lawn by 6:00AM**
URL:https://villageofburton.org/event/spring-special-pickup/
ORGANIZER;CN="Village of Burton":MAILTO:1villageofburton@sbcglobal.net
END:VEVENT
BEGIN:VEVENT
DTSTART;TZID=America/New_York:20240506T183000
DTEND;TZID=America/New_York:20240506T183000
DTSTAMP:20260419T142133
CREATED:20240111T165436Z
LAST-MODIFIED:20240111T165436Z
UID:19658-1715020200-1715020200@villageofburton.org
SUMMARY:TREE COMMISSION
DESCRIPTION:TREE COMMISSION will meet in the James Room of the Burton Public Library
URL:https://villageofburton.org/event/tree-commission-10/
END:VEVENT
BEGIN:VEVENT
DTSTART;TZID=America/New_York:20240422T190000
DTEND;TZID=America/New_York:20240422T200000
DTSTAMP:20260419T142133
CREATED:20230927T174405Z
LAST-MODIFIED:20230927T174405Z
UID:19499-1713812400-1713816000@villageofburton.org
SUMMARY:Council Meeting
DESCRIPTION:
URL:https://villageofburton.org/event/council-meeting-15/
END:VEVENT
BEGIN:VEVENT
DTSTART;TZID=America/New_York:20240409T190000
DTEND;TZID=America/New_York:20240409T200000
DTSTAMP:20260419T142133
CREATED:20231212T201937Z
LAST-MODIFIED:20231212T201937Z
UID:19612-1712689200-1712692800@villageofburton.org
SUMMARY:BPA MEETING
DESCRIPTION:
URL:https://villageofburton.org/event/bpa-meeting-22/
CATEGORIES:BPA Meeting
ORGANIZER;CN="Village of Burton":MAILTO:1villageofburton@sbcglobal.net
END:VEVENT
BEGIN:VEVENT
DTSTART;TZID=America/New_York:20240408T190000
DTEND;TZID=America/New_York:20240408T200000
DTSTAMP:20260419T142133
CREATED:20230927T174328Z
LAST-MODIFIED:20230927T174328Z
UID:19497-1712602800-1712606400@villageofburton.org
SUMMARY:Council Meeting
DESCRIPTION:
URL:https://villageofburton.org/event/council-meeting-14/
END:VEVENT
BEGIN:VEVENT
DTSTART;TZID=America/New_York:20240401T183000
DTEND;TZID=America/New_York:20240401T183000
DTSTAMP:20260419T142133
CREATED:20240111T165237Z
LAST-MODIFIED:20240111T165237Z
UID:19654-1711996200-1711996200@villageofburton.org
SUMMARY:TREE COMMISSION
DESCRIPTION:TREE COMMISSION will meeting in the James Room at the Burton Public Library
URL:https://villageofburton.org/event/tree-commission-9/
END:VEVENT
BEGIN:VEVENT
DTSTART;TZID=America/New_York:20240325T190000
DTEND;TZID=America/New_York:20240325T200000
DTSTAMP:20260419T142133
CREATED:20230927T174134Z
LAST-MODIFIED:20230927T174134Z
UID:19495-1711393200-1711396800@villageofburton.org
SUMMARY:Council Meeting
DESCRIPTION:
URL:https://villageofburton.org/event/council-meeting-13/
END:VEVENT
BEGIN:VEVENT
DTSTART;TZID=America/New_York:20240312T190000
DTEND;TZID=America/New_York:20240312T200000
DTSTAMP:20260419T142133
CREATED:20231212T201845Z
LAST-MODIFIED:20231212T201845Z
UID:19610-1710270000-1710273600@villageofburton.org
SUMMARY:BPA MEETING
DESCRIPTION:
URL:https://villageofburton.org/event/bpa-meeting-21/
LOCATION:Village of Burton\, 14588 W Park Street\, Burton\, OH\, 44021\, United States
END:VEVENT
BEGIN:VEVENT
DTSTART;TZID=America/New_York:20240311T190000
DTEND;TZID=America/New_York:20240311T200000
DTSTAMP:20260419T142133
CREATED:20230927T174101Z
LAST-MODIFIED:20230927T174101Z
UID:19493-1710183600-1710187200@villageofburton.org
SUMMARY:Council Meeting
DESCRIPTION:
URL:https://villageofburton.org/event/council-meeting-12/
END:VEVENT
BEGIN:VEVENT
DTSTART;TZID=America/New_York:20240304T183000
DTEND;TZID=America/New_York:20240304T183000
DTSTAMP:20260419T142133
CREATED:20240111T165131Z
LAST-MODIFIED:20240111T165131Z
UID:19652-1709577000-1709577000@villageofburton.org
SUMMARY:TREE COMMISSION
DESCRIPTION:TREE COMMISSION  meeting in the James Room of Burton Public Library
URL:https://villageofburton.org/event/tree-commission-8/
END:VEVENT
BEGIN:VEVENT
DTSTART;TZID=America/New_York:20240226T190000
DTEND;TZID=America/New_York:20240226T200000
DTSTAMP:20260419T142133
CREATED:20230927T174017Z
LAST-MODIFIED:20230927T174017Z
UID:19491-1708974000-1708977600@villageofburton.org
SUMMARY:Council Meeting
DESCRIPTION:
URL:https://villageofburton.org/event/council-meeting-11/
END:VEVENT
BEGIN:VEVENT
DTSTART;TZID=America/New_York:20240213T190000
DTEND;TZID=America/New_York:20240213T200000
DTSTAMP:20260419T142133
CREATED:20231212T201759Z
LAST-MODIFIED:20231212T201759Z
UID:19608-1707850800-1707854400@villageofburton.org
SUMMARY:BPA MEETING
DESCRIPTION:
URL:https://villageofburton.org/event/bpa-meeting-8/
CATEGORIES:BPA Meeting
END:VEVENT
BEGIN:VEVENT
DTSTART;TZID=America/New_York:20240212T190000
DTEND;TZID=America/New_York:20240212T200000
DTSTAMP:20260419T142133
CREATED:20230927T173941Z
LAST-MODIFIED:20230927T173941Z
UID:19489-1707764400-1707768000@villageofburton.org
SUMMARY:Council Meeting
DESCRIPTION:
URL:https://villageofburton.org/event/council-meeting-10/
END:VEVENT
BEGIN:VEVENT
DTSTART;TZID=America/New_York:20240205T183000
DTEND;TZID=America/New_York:20240205T183000
DTSTAMP:20260419T142133
CREATED:20240111T164942Z
LAST-MODIFIED:20240111T164942Z
UID:19650-1707157800-1707157800@villageofburton.org
SUMMARY:TREE COMMISSION
DESCRIPTION:The Tree Commission meets the first Monday of the month at 6:30pm in the James Room of the Burton Public Library.  If you see an ( * ) next to the date or time\, this means the meeting will be held on the second Monday of the Month.  Any questions\, please call the Village Office.
URL:https://villageofburton.org/event/tree-commission-7/
END:VEVENT
BEGIN:VEVENT
DTSTART;TZID=America/New_York:20240122T190000
DTEND;TZID=America/New_York:20240122T200000
DTSTAMP:20260419T142133
CREATED:20230927T173824Z
LAST-MODIFIED:20230927T173824Z
UID:19487-1705950000-1705953600@villageofburton.org
SUMMARY:Council meeting
DESCRIPTION:
URL:https://villageofburton.org/event/council-meeting-9/
END:VEVENT
BEGIN:VEVENT
DTSTART;TZID=America/New_York:20240109T190000
DTEND;TZID=America/New_York:20240109T200000
DTSTAMP:20260419T142133
CREATED:20231212T201633Z
LAST-MODIFIED:20231212T201633Z
UID:19606-1704826800-1704830400@villageofburton.org
SUMMARY:BPA MEETING
DESCRIPTION:
URL:https://villageofburton.org/event/bpa-meeting-20/
LOCATION:Village of Burton\, 14588 W Park Street\, Burton\, OH\, 44021\, United States
CATEGORIES:BPA Meeting
END:VEVENT
BEGIN:VEVENT
DTSTART;TZID=America/New_York:20240108T190000
DTEND;TZID=America/New_York:20240108T200000
DTSTAMP:20260419T142133
CREATED:20230927T173608Z
LAST-MODIFIED:20230927T173723Z
UID:19485-1704740400-1704744000@villageofburton.org
SUMMARY:Council Meeting
DESCRIPTION:Organizational Meeting
URL:https://villageofburton.org/event/council-meeting-8/
END:VEVENT
BEGIN:VEVENT
DTSTART;TZID=America/New_York:20231225T080000
DTEND;TZID=America/New_York:20231225T170000
DTSTAMP:20260419T142133
CREATED:20231212T194030Z
LAST-MODIFIED:20231212T194030Z
UID:19603-1703491200-1703523600@villageofburton.org
SUMMARY:Village Office Closed
DESCRIPTION:The Village Offices will be closed for Christmas
URL:https://villageofburton.org/event/village-office-closed/
LOCATION:Village of Burton\, 14588 W Park Street\, Burton\, OH\, 44021\, United States
END:VEVENT
BEGIN:VEVENT
DTSTART;VALUE=DATE:20231225
DTEND;VALUE=DATE:20231226
DTSTAMP:20260419T142133
CREATED:20231212T203117Z
LAST-MODIFIED:20250107T191052Z
UID:19614-1703462400-1703548799@villageofburton.org
SUMMARY:CHRISTMAS
DESCRIPTION:
URL:https://villageofburton.org/event/christmas/
CATEGORIES:Holiday Celebrations
END:VEVENT
BEGIN:VEVENT
DTSTART;TZID=America/New_York:20231218T173000
DTEND;TZID=America/New_York:20231218T183000
DTSTAMP:20260419T142133
CREATED:20231212T193041Z
LAST-MODIFIED:20231212T193911Z
UID:19597-1702920600-1702924200@villageofburton.org
SUMMARY:5:30 PM Council Meeting ** DATE & TIME
DESCRIPTION:This meeting will be held on the third Monday of December @ 5:30PM
URL:https://villageofburton.org/event/council-meeting-date-time/
LOCATION:Village of Burton\, 14588 W Park Street\, Burton\, OH\, 44021\, United States
CATEGORIES:VOB Meetings
ORGANIZER;CN="Village of Burton":MAILTO:1villageofburton@sbcglobal.net
END:VEVENT
BEGIN:VEVENT
DTSTART;TZID=America/New_York:20231212T190000
DTEND;TZID=America/New_York:20231212T200000
DTSTAMP:20260419T142133
CREATED:20230629T194732Z
LAST-MODIFIED:20230629T194732Z
UID:18161-1702407600-1702411200@villageofburton.org
SUMMARY:BPA Meeting
DESCRIPTION:
URL:https://villageofburton.org/event/bpa-meeting-7/
CATEGORIES:VOB Meetings
END:VEVENT
BEGIN:VEVENT
DTSTART;TZID=America/New_York:20231211T190000
DTEND;TZID=America/New_York:20231211T200000
DTSTAMP:20260419T142133
CREATED:20230629T195437Z
LAST-MODIFIED:20230629T195437Z
UID:18174-1702321200-1702324800@villageofburton.org
SUMMARY:Council meets
DESCRIPTION:
URL:https://villageofburton.org/event/council-meets-5/
CATEGORIES:VOB Meetings
END:VEVENT
END:VCALENDAR