BEGIN:VCALENDAR
VERSION:2.0
PRODID:-//Village of Burton - ECPv6.15.20//NONSGML v1.0//EN
CALSCALE:GREGORIAN
METHOD:PUBLISH
X-ORIGINAL-URL:https://villageofburton.org
X-WR-CALDESC:Events for Village of Burton
REFRESH-INTERVAL;VALUE=DURATION:PT1H
X-Robots-Tag:noindex
X-PUBLISHED-TTL:PT1H
BEGIN:VTIMEZONE
TZID:America/New_York
BEGIN:DAYLIGHT
TZOFFSETFROM:-0500
TZOFFSETTO:-0400
TZNAME:EDT
DTSTART:20250309T070000
END:DAYLIGHT
BEGIN:STANDARD
TZOFFSETFROM:-0400
TZOFFSETTO:-0500
TZNAME:EST
DTSTART:20251102T060000
END:STANDARD
BEGIN:DAYLIGHT
TZOFFSETFROM:-0500
TZOFFSETTO:-0400
TZNAME:EDT
DTSTART:20260308T070000
END:DAYLIGHT
BEGIN:STANDARD
TZOFFSETFROM:-0400
TZOFFSETTO:-0500
TZNAME:EST
DTSTART:20261101T060000
END:STANDARD
BEGIN:DAYLIGHT
TZOFFSETFROM:-0500
TZOFFSETTO:-0400
TZNAME:EDT
DTSTART:20270314T070000
END:DAYLIGHT
BEGIN:STANDARD
TZOFFSETFROM:-0400
TZOFFSETTO:-0500
TZNAME:EST
DTSTART:20271107T060000
END:STANDARD
END:VTIMEZONE
BEGIN:VEVENT
DTSTART;TZID=America/New_York:20260420T080000
DTEND;TZID=America/New_York:20260501T170000
DTSTAMP:20260422T210231
CREATED:20260331T154525Z
LAST-MODIFIED:20260331T154525Z
UID:21572-1776672000-1777654800@villageofburton.org
SUMMARY:HYDRANT FLUSHING APRIL 20TH TO MAY 1ST 2026
DESCRIPTION:
URL:https://villageofburton.org/event/hydrant-flushing-april-20th-to-may-1st-2026/
CATEGORIES:Community Events,Resident Info,UTILITY DEPARTMENT
END:VEVENT
BEGIN:VEVENT
DTSTART;TZID=America/New_York:20260427T080000
DTEND;TZID=America/New_York:20260501T170000
DTSTAMP:20260422T210231
CREATED:20260319T185400Z
LAST-MODIFIED:20260319T200118Z
UID:21515-1777276800-1777654800@villageofburton.org
SUMMARY:SPRING BRUSH PICK-UP
DESCRIPTION:Spring Brush pick-up will be the week of **** APRIL 27  TO MAY 1 2026 ***** \nSame rules apply as in years past: absolutely NO: \n\nGLASS\nBOTTLES\nCANS\nMETAL\nROCKS\n\nBrush must be at the curb with the cut ends facing the street.  The brush cannot be longer than 5 ft in length or larger than 5 ” in diameter. \nThis is for yard debris that fell throughout Fall & Winter from the weather. \nOnce the crews have left\, they will not return. They have a time limit per address and have other streets and properties they need to pick up from. \nYou can start loading the curb with your debris on Monday APRIL 20th….. \n** THIS IS A FREE SERVICE FOR RESIDENT’S ONLY ** \n  \n 
URL:https://villageofburton.org/event/spring-brush-pick-up-2/
CATEGORIES:Community Events,Home page,Resident Info
END:VEVENT
BEGIN:VEVENT
DTSTART;VALUE=DATE:20260505
DTEND;VALUE=DATE:20260506
DTSTAMP:20260422T210231
CREATED:20251208T163745Z
LAST-MODIFIED:20251208T164603Z
UID:21126-1777939200-1778025599@villageofburton.org
SUMMARY:CINCO DE MAYO
DESCRIPTION:
URL:https://villageofburton.org/event/cinco-de-mayo/
CATEGORIES:Holiday Celebrations
END:VEVENT
BEGIN:VEVENT
DTSTART;TZID=America/New_York:20260509T080000
DTEND;TZID=America/New_York:20260509T130000
DTSTAMP:20260422T210231
CREATED:20260324T160400Z
LAST-MODIFIED:20260324T160400Z
UID:21546-1778313600-1778331600@villageofburton.org
SUMMARY:SPRING CLEAN-UP **** MAY 9\, 2026 *****
DESCRIPTION:
URL:https://villageofburton.org/event/spring-clean-up-may-9-2026/
CATEGORIES:Community Events,Home page,Resident Info
END:VEVENT
BEGIN:VEVENT
DTSTART;VALUE=DATE:20260510
DTEND;VALUE=DATE:20260511
DTSTAMP:20260422T210231
CREATED:20251208T164635Z
LAST-MODIFIED:20251208T164635Z
UID:21128-1778371200-1778457599@villageofburton.org
SUMMARY:MOTHERS DAY
DESCRIPTION:
URL:https://villageofburton.org/event/mothers-day/
CATEGORIES:Holiday Celebrations
END:VEVENT
BEGIN:VEVENT
DTSTART;TZID=America/New_York:20260511T190000
DTEND;TZID=America/New_York:20260511T200000
DTSTAMP:20260422T210231
CREATED:20251208T155702Z
LAST-MODIFIED:20251208T155702Z
UID:21062-1778526000-1778529600@villageofburton.org
SUMMARY:COUNCIL MEETING 7:00PM
DESCRIPTION:
URL:https://villageofburton.org/event/council-meeting-700pm-3/
CATEGORIES:VOB Meetings
END:VEVENT
BEGIN:VEVENT
DTSTART;TZID=America/New_York:20260512T190000
DTEND;TZID=America/New_York:20260512T200000
DTSTAMP:20260422T210231
CREATED:20251208T162112Z
LAST-MODIFIED:20251208T162112Z
UID:21102-1778612400-1778616000@villageofburton.org
SUMMARY:BPA MEETING 7:00PM
DESCRIPTION:
URL:https://villageofburton.org/event/bpa-meeting-700pm-5/
CATEGORIES:BPA Meeting
END:VEVENT
BEGIN:VEVENT
DTSTART;VALUE=DATE:20260525
DTEND;VALUE=DATE:20260526
DTSTAMP:20260422T210231
CREATED:20251208T164706Z
LAST-MODIFIED:20251208T164706Z
UID:21130-1779667200-1779753599@villageofburton.org
SUMMARY:MEMORIAL DAY
DESCRIPTION:
URL:https://villageofburton.org/event/memorial-day-2/
CATEGORIES:Holiday Celebrations
END:VEVENT
BEGIN:VEVENT
DTSTART;TZID=America/New_York:20260526T190000
DTEND;TZID=America/New_York:20260526T200000
DTSTAMP:20260422T210231
CREATED:20251208T155742Z
LAST-MODIFIED:20251208T155953Z
UID:21064-1779822000-1779825600@villageofburton.org
SUMMARY:COUNCIL MEETING 7:00PM - TUESDAY
DESCRIPTION:The council meeting will commence on Tuesday May 26th due to Memorial Day** Please mark your calendars accordingly **
URL:https://villageofburton.org/event/council-meeting-700pm-4/
CATEGORIES:VOB Meetings
END:VEVENT
END:VCALENDAR