BEGIN:VCALENDAR
VERSION:2.0
PRODID:-//Village of Burton - ECPv6.15.20//NONSGML v1.0//EN
CALSCALE:GREGORIAN
METHOD:PUBLISH
X-WR-CALNAME:Village of Burton
X-ORIGINAL-URL:https://villageofburton.org
X-WR-CALDESC:Events for Village of Burton
REFRESH-INTERVAL;VALUE=DURATION:PT1H
X-Robots-Tag:noindex
X-PUBLISHED-TTL:PT1H
BEGIN:VTIMEZONE
TZID:America/New_York
BEGIN:DAYLIGHT
TZOFFSETFROM:-0500
TZOFFSETTO:-0400
TZNAME:EDT
DTSTART:20250309T070000
END:DAYLIGHT
BEGIN:STANDARD
TZOFFSETFROM:-0400
TZOFFSETTO:-0500
TZNAME:EST
DTSTART:20251102T060000
END:STANDARD
BEGIN:DAYLIGHT
TZOFFSETFROM:-0500
TZOFFSETTO:-0400
TZNAME:EDT
DTSTART:20260308T070000
END:DAYLIGHT
BEGIN:STANDARD
TZOFFSETFROM:-0400
TZOFFSETTO:-0500
TZNAME:EST
DTSTART:20261101T060000
END:STANDARD
BEGIN:DAYLIGHT
TZOFFSETFROM:-0500
TZOFFSETTO:-0400
TZNAME:EDT
DTSTART:20270314T070000
END:DAYLIGHT
BEGIN:STANDARD
TZOFFSETFROM:-0400
TZOFFSETTO:-0500
TZNAME:EST
DTSTART:20271107T060000
END:STANDARD
END:VTIMEZONE
BEGIN:VEVENT
DTSTART;VALUE=DATE:20260704
DTEND;VALUE=DATE:20260705
DTSTAMP:20260423T004746
CREATED:20251208T164932Z
LAST-MODIFIED:20251208T164932Z
UID:21138-1783123200-1783209599@villageofburton.org
SUMMARY:INDEPENDENCE DAY - 4TH OF JULY
DESCRIPTION:
URL:https://villageofburton.org/event/independence-day-4th-of-july/
CATEGORIES:Holiday Celebrations
END:VEVENT
BEGIN:VEVENT
DTSTART;TZID=America/New_York:20260713T190000
DTEND;TZID=America/New_York:20260713T200000
DTSTAMP:20260423T004746
CREATED:20251208T160122Z
LAST-MODIFIED:20251208T160122Z
UID:21068-1783969200-1783972800@villageofburton.org
SUMMARY:COUNCIL MEETING 7:00PM
DESCRIPTION:
URL:https://villageofburton.org/event/council-meeting-700pm-5/
CATEGORIES:VOB Meetings
END:VEVENT
BEGIN:VEVENT
DTSTART;TZID=America/New_York:20260714T190000
DTEND;TZID=America/New_York:20260714T200000
DTSTAMP:20260423T004746
CREATED:20251208T162252Z
LAST-MODIFIED:20251208T162252Z
UID:21106-1784055600-1784059200@villageofburton.org
SUMMARY:BPA MEETING 7:00PM
DESCRIPTION:
URL:https://villageofburton.org/event/bpa-meeting-700pm-7/
CATEGORIES:BPA Meeting
END:VEVENT
END:VCALENDAR