BEGIN:VCALENDAR
VERSION:2.0
PRODID:-//Village of Burton - ECPv6.15.20//NONSGML v1.0//EN
CALSCALE:GREGORIAN
METHOD:PUBLISH
X-ORIGINAL-URL:https://villageofburton.org
X-WR-CALDESC:Events for Village of Burton
REFRESH-INTERVAL;VALUE=DURATION:PT1H
X-Robots-Tag:noindex
X-PUBLISHED-TTL:PT1H
BEGIN:VTIMEZONE
TZID:America/New_York
BEGIN:DAYLIGHT
TZOFFSETFROM:-0500
TZOFFSETTO:-0400
TZNAME:EDT
DTSTART:20250309T070000
END:DAYLIGHT
BEGIN:STANDARD
TZOFFSETFROM:-0400
TZOFFSETTO:-0500
TZNAME:EST
DTSTART:20251102T060000
END:STANDARD
BEGIN:DAYLIGHT
TZOFFSETFROM:-0500
TZOFFSETTO:-0400
TZNAME:EDT
DTSTART:20260308T070000
END:DAYLIGHT
BEGIN:STANDARD
TZOFFSETFROM:-0400
TZOFFSETTO:-0500
TZNAME:EST
DTSTART:20261101T060000
END:STANDARD
BEGIN:DAYLIGHT
TZOFFSETFROM:-0500
TZOFFSETTO:-0400
TZNAME:EDT
DTSTART:20270314T070000
END:DAYLIGHT
BEGIN:STANDARD
TZOFFSETFROM:-0400
TZOFFSETTO:-0500
TZNAME:EST
DTSTART:20271107T060000
END:STANDARD
END:VTIMEZONE
BEGIN:VEVENT
DTSTART;TZID=America/New_York:20261109T190000
DTEND;TZID=America/New_York:20261109T200000
DTSTAMP:20260423T090153
CREATED:20251208T160706Z
LAST-MODIFIED:20251208T163149Z
UID:21080-1794250800-1794254400@villageofburton.org
SUMMARY:COUNCIL MEETING 7:00PM
DESCRIPTION:
URL:https://villageofburton.org/event/council-meeeting-700pm/
CATEGORIES:VOB Meetings
END:VEVENT
BEGIN:VEVENT
DTSTART;TZID=America/New_York:20261110T190000
DTEND;TZID=America/New_York:20261110T200000
DTSTAMP:20260423T090153
CREATED:20251208T162621Z
LAST-MODIFIED:20251208T162621Z
UID:21114-1794337200-1794340800@villageofburton.org
SUMMARY:BPA MEETING 7:00PM
DESCRIPTION:
URL:https://villageofburton.org/event/bpa-meeting-700pm-10/
CATEGORIES:BPA Meeting
END:VEVENT
BEGIN:VEVENT
DTSTART;VALUE=DATE:20261111
DTEND;VALUE=DATE:20261112
DTSTAMP:20260423T090153
CREATED:20251208T165156Z
LAST-MODIFIED:20251208T165156Z
UID:21145-1794355200-1794441599@villageofburton.org
SUMMARY:VETERANS DAY
DESCRIPTION:
URL:https://villageofburton.org/event/veterans-day/
CATEGORIES:Holiday Celebrations,Home page,Resident Info
END:VEVENT
BEGIN:VEVENT
DTSTART;TZID=America/New_York:20261123T190000
DTEND;TZID=America/New_York:20261123T200000
DTSTAMP:20260423T090153
CREATED:20251208T160743Z
LAST-MODIFIED:20251208T160743Z
UID:21082-1795460400-1795464000@villageofburton.org
SUMMARY:COUNCIL MEETING 7:00PM
DESCRIPTION:
URL:https://villageofburton.org/event/council-meeting-700pm-11/
CATEGORIES:VOB Meetings
END:VEVENT
BEGIN:VEVENT
DTSTART;VALUE=DATE:20261126
DTEND;VALUE=DATE:20261127
DTSTAMP:20260423T090153
CREATED:20251208T165239Z
LAST-MODIFIED:20251208T165239Z
UID:21147-1795651200-1795737599@villageofburton.org
SUMMARY:THANKSGIVING DAY
DESCRIPTION:
URL:https://villageofburton.org/event/thanksgiving-day/
CATEGORIES:Holiday Celebrations,Resident Info
END:VEVENT
END:VCALENDAR